BEGIN:VCALENDAR
VERSION:2.0
PRODID:-//Versatile - ECPv6.15.16//NONSGML v1.0//EN
CALSCALE:GREGORIAN
METHOD:PUBLISH
X-WR-CALNAME:Versatile
X-ORIGINAL-URL:https://versatile.now
X-WR-CALDESC:Events for Versatile
REFRESH-INTERVAL;VALUE=DURATION:PT1H
X-Robots-Tag:noindex
X-PUBLISHED-TTL:PT1H
BEGIN:VTIMEZONE
TZID:UTC
BEGIN:STANDARD
TZOFFSETFROM:+0000
TZOFFSETTO:+0000
TZNAME:UTC
DTSTART:20250101T000000
END:STANDARD
END:VTIMEZONE
BEGIN:VEVENT
DTSTART;TZID=UTC:20260328T120000
DTEND;TZID=UTC:20260328T130000
DTSTAMP:20260423T162844
CREATED:20260309T181627Z
LAST-MODIFIED:20260309T193121Z
UID:927-1774699200-1774702800@versatile.now
SUMMARY:Leadership Masterclass - Join Online for Free
DESCRIPTION:Leadership Masterclass – Join Online for Free \nBased on Amazon’s Bestseller Book – The Versatile Leader™  \nOn 28th March\, 2026.  |   12PM – 1PM GST \nFacilitator  – Hina Khalid (Leadership Expert\, Corporate Trainer\, & Management Consultant) \n \nIf you are looking for a practical leadership framework for mastering the art of Versatility to manage diverse work situations\, challenges and conflicting leadership priorities like a pro\, join us for this unique FREE Online Leadership Masterclass. \nVersatile Leadership doesn’t simplify the world\, it simplifies how leaders respond to it! \nWhat will you gain from this power-packed session? \nIn this Masterclass we will show you How to shift your style with confidence\, to excel in every situation from strategic to tactical\, by learning our uniquely powerful and proven Leadership Approach based on: \n\nPurposeful Leadership \n Situational Agility \n 12 powerfull Leadership lenses – Unique occupational metaphors\n\nWhy you would NOT want to miss this opportunity? \n\nA one-of-a-kind\, exciting learning experience\nUnique Leadership concepts and practical framework\nPreview of our complete flagship leadership development program and additional benefits offered\nSpecial limited-time pricing offer ONLY for masterclass attendees.\n\nWho would benefit from this session? \n\nExperienced leaders\, managing multiple priorities\, projects and stakeholders\nNew and first-time leaders aiming to succeed from Day One\nLeaders balancing competing demands and making decisions under pressure\nCorporate and community leaders seeking meaningful impact\nEntrepreneurs handling business evolution complexities\nProfessionals seeking to strengthen self-leadership to steer through work-life changes\nTrainers aiming to enhance their toolkit with modern day leadership framework\n\n \n
URL:https://versatile.now/event/leadership-masterclass/
LOCATION:Online\, United Arab Emirates
ATTACH;FMTTYPE=image/jpeg:https://versatile.now/wp-content/uploads/2026/03/Masterclass.jpg
END:VEVENT
BEGIN:VEVENT
DTSTART;TZID=UTC:20260424T180000
DTEND;TZID=UTC:20260424T180000
DTSTAMP:20260423T162844
CREATED:20260309T190625Z
LAST-MODIFIED:20260421T104321Z
UID:940-1777053600-1777053600@versatile.now
SUMMARY:Unleash your leadership Potential with the Versatile Leader
DESCRIPTION:On April 24th\, 2026 | 6:00 PM – 9:00 PM GST | Every Friday & Saturday \nDuration: 4 weeks (6 Hours/Week) \nLocation: Online (Live and Interactive) \nFacilitator  – Hina Khalid (Leadership Expert\, Corporate Trainer\, & Management Consultant) \n \nHow YOU Benefit:  \nOur program delivers practical tools for real change: \n\nStrengthened leadership capability at every level\nDesigned for all—employees\, entrepreneurs\, students\, and parents\n⁠Applicable beyond work\, improving relationships\, communication\, and conflict resolution\nBetter team alignment and collaboration across diverse groups\nHigher productivity and sharper decision-making using a simple framework\nA shared leadership language that strengthens culture and unity\n\n \n
URL:https://versatile.now/event/tvl/
LOCATION:Online\, United Arab Emirates
ATTACH;FMTTYPE=image/jpeg:https://versatile.now/wp-content/uploads/2026/03/tvl-program.jpg
END:VEVENT
END:VCALENDAR